BEGIN:VCALENDAR
PRODID:-//eluceo/ical//2.0/EN
VERSION:2.0
CALSCALE:GREGORIAN
BEGIN:VEVENT
UID:bc284160f828f5233462b830fdaae8e6
DTSTAMP:20260420T231038Z
SUMMARY:Erev Rosh HaShanah Men's Drop In Mikvah Immersions
DESCRIPTION:Jewish Federation of Greater Portland\nHigh Holy Days\nhttps://
 jewishportland.org/highholidays/erev-rosh-hashanah-mens-drop-in-mikvah-imm
 ersions-446704\n\nAdd a mikvah immersion to your preparations for the Jewi
 sh new year. Drop in hours for men. MUST bring own towel. For details/ques
 tions email mikvahpdx@gmail.com.
DTSTART;TZID=America/Los_Angeles:20230915T143000
DTEND;TZID=America/Los_Angeles:20230915T163000
END:VEVENT
END:VCALENDAR
