BEGIN:VCALENDAR
PRODID:-//eluceo/ical//2.0/EN
VERSION:2.0
CALSCALE:GREGORIAN
BEGIN:VEVENT
UID:fc67fd393d3f47525021358e36f181f0
DTSTAMP:20260422T004030Z
SUMMARY:High Holy Day Jonah Study - Beit Haverim
DESCRIPTION:Jewish Federation of Greater Portland\nHigh Holy Days\nhttps://
 jewishportland.org/highholidays/high-holy-day-jonah-study---beit-haverim-1
 661792504-415991\n\nHigh Holy Day Jonah Study\nZoom only: https://us02web.
 zoom.us/j/89081892607?pwd=Z3VkMkNyVDdxSkVySW9DZmRsQTA5QT09
DTSTART;TZID=America/Los_Angeles:20220928T120000
DTEND;TZID=America/Los_Angeles:20220928T140000
END:VEVENT
END:VCALENDAR
