BEGIN:VCALENDAR
PRODID:-//eluceo/ical//2.0/EN
VERSION:2.0
CALSCALE:GREGORIAN
BEGIN:VEVENT
UID:def901d7e6f2aff27a3f3651ded88049
DTSTAMP:20260423T163408Z
SUMMARY:Religion Outside The Box High Holy Day Services
DESCRIPTION:Jewish Federation of Greater Portland\nHigh Holy Days\nhttps://
 jewishportland.org/highholidays/religion-outside-the-box-high-holy-day-ser
 vices\n\nA digital age\, adult conversation and service about forgiveness\
 , atonement\, re-centering\, remembrance\, and celebration.\n\nOnline and 
 in person.\n\nNo dogma\, no creeds\, nothing you need to pretend to believ
 e in.\n\nFor participants age 12 and older.\n\nInteractive. (If you want t
 o interact. You can also just watch.)\n\nService conducted almost exclusiv
 ely in English.\n\n$18-180 donations to RELIGION-OUTSIDE-THE-BOX suggested
 .\n\nMORE INFORMATION\n\nLive in person and on the web.
DTSTART;TZID=America/Los_Angeles:20220930T181500
DTEND;TZID=America/Los_Angeles:20220930T201500
END:VEVENT
END:VCALENDAR
