BEGIN:VCALENDAR
PRODID:-//eluceo/ical//2.0/EN
VERSION:2.0
CALSCALE:GREGORIAN
BEGIN:VEVENT
UID:39922d10613bee6bc5cee1b4562ac99d
DTSTAMP:20260424T232723Z
SUMMARY:Rosh Hashana Services
DESCRIPTION:Jewish Federation of Greater Portland\nHigh Holy Days\nhttps://
 jewishportland.org/highholidays/rosh-hashana-services-204059\n\nRosh Hasha
 na services at Congregation Kesser Israel are open to all\, and are free o
 f charge.
DTSTART;TZID=America/Los_Angeles:20161003T083000
DTEND;TZID=America/Los_Angeles:20161003T143000
END:VEVENT
END:VCALENDAR
