BEGIN:VCALENDAR
PRODID:-//eluceo/ical//2.0/EN
VERSION:2.0
CALSCALE:GREGORIAN
BEGIN:VEVENT
UID:7e69b837c2dda37bbe3934f4fb091756
DTSTAMP:20260422T090247Z
SUMMARY:Rosh Hashanah 2nd Day morning service
DESCRIPTION:Jewish Federation of Greater Portland\nHigh Holy Days\nhttps://
 jewishportland.org/highholidays/rosh-hashanah-2nd-day-morning-service-1691
 599438-445257\n\nled by Eddy Shuldman for residents and families of Cedar 
 Sinai Park
DTSTART;TZID=America/Los_Angeles:20230917T100000
DTEND;TZID=America/Los_Angeles:20230917T120000
END:VEVENT
END:VCALENDAR
