BEGIN:VCALENDAR
PRODID:-//eluceo/ical//2.0/EN
VERSION:2.0
CALSCALE:GREGORIAN
BEGIN:VEVENT
UID:1132351eadbd8f14d40aa08cfbe8ab25
DTSTAMP:20260420T040807Z
SUMMARY:Rosh Hashanah Day 2 at Shaarie Torah
DESCRIPTION:Jewish Federation of Greater Portland\nHigh Holy Days\nhttps://
 jewishportland.org/highholidays/rosh-hashanah-day-2-at-shaarie-torah-44671
 6\n\nWe welcome you to join us for Rosh Hashanah Services at Shaarie Torah
 . CST is your place for MORE in 5784!\n\nWe'll gather in our sanctuary 
 with Rabbi Oren and High Holy Day Soloist Rav Na'am﻿a Leviz Applbaum jo
 ining us from Israel. We ask everyone to register to let us know you're co
 ming. Register here\n\nWe are thankful to our community members for suppo
 rting the synagogue so we can provide joyful\, meaningful\, and inspiring 
 Jewish experiences.\n\nIf you are not a member\, we welcome y...
DTSTART;TZID=America/Los_Angeles:20230917T090000
DTEND;TZID=America/Los_Angeles:20230917T130000
END:VEVENT
END:VCALENDAR
