BEGIN:VCALENDAR
PRODID:-//eluceo/ical//2.0/EN
VERSION:2.0
CALSCALE:GREGORIAN
BEGIN:VEVENT
UID:ec54b6f45c8cbb91cb66a18d70217ff1
DTSTAMP:20260423T105839Z
SUMMARY:Rosh Hashanah in Alberta Park
DESCRIPTION:Jewish Federation of Greater Portland\nHigh Holy Days\nhttps://
 jewishportland.org/highholidays/rosh-hashanah-in-alberta-park-1630594751\n
 \nProgram:\n* Short and sweet ritual gathering with songs\, prayers\, and 
 the sound of the shofar\n* We will provide candles\, juice/wine\, challah\
 , and apples and honey.\n* Bring your wishes\, hopes\, dreams\, fantasies\
 , goals and promises for the New Year! We will collect what you write down
  and randomly select some to read.\n\nRegister here: https://www.eventbrit
 e.com/e/an-evening-of-reflection-and-powerful-readings-that-inspire-resili
 ence-tickets-168633652795
DTSTART;TZID=America/Los_Angeles:20210906T183000
DTEND;TZID=America/Los_Angeles:20210906T193000
END:VEVENT
END:VCALENDAR
