BEGIN:VCALENDAR
PRODID:-//eluceo/ical//2.0/EN
VERSION:2.0
CALSCALE:GREGORIAN
BEGIN:VEVENT
UID:590500429aa14a646420831515bcb2d3
DTSTAMP:20260422T183126Z
SUMMARY:Rosh Hashanah Services Day 2 – Neveh Shalom
DESCRIPTION:Jewish Federation of Greater Portland\nHigh Holy Days\nhttps://
 jewishportland.org/highholidays/rosh-hashanah-services-day-2-5783-415371\n
 \nHigh Holiday services at Neveh Shalom\, an open and egalitarian communit
 y\, are led by Rabbi David Kosak\, Rabbi Eve Posen\, and Cantor Eyal Bitto
 n. We offer lively young child services as well as K-6 appropriate family
  experiences. We welcome all to experience the New Year with Neveh Shalom.
 \n\nTICKETS REQUIRED\nTo purchase tickets\, please click here (https://mem
 bers.nevehshalom.org/form/high-holydays-5783.html) or contact Marg Everett
  at meverett@nevehshalom.org or 503-246-8831\, ext. 112.\nFor...
DTSTART;TZID=America/Los_Angeles:20220927T090000
DTEND;TZID=America/Los_Angeles:20220927T123000
END:VEVENT
END:VCALENDAR
