BEGIN:VCALENDAR
PRODID:-//eluceo/ical//2.0/EN
VERSION:2.0
CALSCALE:GREGORIAN
BEGIN:VEVENT
UID:64690a360464540f32ad207a5c563c63
DTSTAMP:20260420T090735Z
SUMMARY:Shemini Atzeret/Yizkor Service - Neveh Shalom
DESCRIPTION:Jewish Federation of Greater Portland\nHigh Holy Days\nhttps://
 jewishportland.org/highholidays/shemini-atzeretyizkor-service-neveh-shalom
 -2017-242564\n\nJoin us for Shemini Atzeret / Yizkor morning services. 
DTSTART;TZID=America/Los_Angeles:20171012T090000
DTEND;TZID=America/Los_Angeles:20171012T120000
END:VEVENT
END:VCALENDAR
