BEGIN:VCALENDAR
PRODID:-//eluceo/ical//2.0/EN
VERSION:2.0
CALSCALE:GREGORIAN
BEGIN:VEVENT
UID:4c34b67d5265ece386f1544c830af711
DTSTAMP:20260425T113650Z
SUMMARY:Yom Kippur Services at Shaarie Torah
DESCRIPTION:Jewish Federation of Greater Portland\nHigh Holy Days\nhttps://
 jewishportland.org/highholidays/yom-kippur-services-at-shaarie-torah-15618
 6\n\nPlease join Congregation Shaarie Torah for their Yom Kippur Day servi
 ces. 
DTSTART;TZID=America/Los_Angeles:20150923T090000
DTEND;TZID=America/Los_Angeles:20150923T200000
END:VEVENT
END:VCALENDAR
