BEGIN:VCALENDAR
PRODID:-//eluceo/ical//2.0/EN
VERSION:2.0
CALSCALE:GREGORIAN
BEGIN:VEVENT
UID:740828d6e650a8bfdcb599a362de62b6
DTSTAMP:20260419T161138Z
SUMMARY:Yom Kippur Traditional Service
DESCRIPTION:Jewish Federation of Greater Portland\nHigh Holy Days\nhttps://
 jewishportland.org/highholidays/yom-kippur-traditional-service-1691171415-
 444972\n\nYom Kippur Traditional Service\n10:00 AM\nIn-Person and via Live
 stream\nMain Sanctuary\n\nOur community’s Yom Kippur observance begins a
 t 10:00 AM with our traditional morning service.\n\nAll who wish to join C
 ongregation Beth Israel for the High Holidays are welcome to do so\; pleas
 e register in advance at https://www.bethisrael-pdx.org/high-holidays-gues
 ts/
DTSTART;TZID=America/Los_Angeles:20230925T100000
DTEND;TZID=America/Los_Angeles:20230925T120000
END:VEVENT
END:VCALENDAR
