BEGIN:VCALENDAR
PRODID:-//eluceo/ical//2.0/EN
VERSION:2.0
CALSCALE:GREGORIAN
BEGIN:VEVENT
UID:ba5bfbc2aad719a366120126a96b81b1
DTSTAMP:20260421T181727Z
SUMMARY:Young Adult Adventure: Swing into the Jewish New Year
DESCRIPTION:Jewish Federation of Greater Portland\nHigh Holy Days\nhttps://
 jewishportland.org/highholidays/young-adult-adventure-swing-into-the-jewis
 h-new-year-fall-2019-322547\n\nYoung Adult Adventure - Swing into the Jewi
 sh New Year!\n\nRing in 5780 with the young adult community at Tree-to-Tre
 e Aerial Adventure Park! Work on team building and communication skills as
  you soar through six courses containing a total of over 60 obstacles and 
 16 zip lines.\n\nMeet at MJCC parking lot to carpool at 9:45 am or at Tree
 -to-Tree\, 2975 SW Nelson Rd.\, Gaston at 11:00 am.\nCost: $30 per person 
 (includes snacks and adventure experience)\nSpace is limited. Register by 
 September 15...
DTSTART;TZID=America/Los_Angeles:20190922T110000
DTEND;TZID=America/Los_Angeles:20190922T130000
END:VEVENT
END:VCALENDAR
