BEGIN:VCALENDAR
PRODID:-//eluceo/ical//2.0/EN
VERSION:2.0
CALSCALE:GREGORIAN
BEGIN:VEVENT
UID:43f0f2943a2729f9a339e2c0742f6739
DTSTAMP:20260426T001341Z
SUMMARY:Ilan Katan Preschool Open House!!
DESCRIPTION:Jewish Federation of Greater Portland\nJewish Education\nhttps:
 //jewishportland.org/jewish-education/ilan-katan-preschool-open-house-1769
 034682-509449\n\nNeed an excuse to get out of the house? We’ve got one! 
 Our Open House invites families with children ages 0–5 to enjoy music\, 
 crafts\, classroom playtime\, and a chance to meet our teachers and connec
 t with other families in a warm\, welcoming space.\n\nFeel free to reach o
 ut with any questions! We look forward to seeing you there!
DTSTART;TZID=America/Los_Angeles:20260329T103000
DTEND;TZID=America/Los_Angeles:20260329T123000
END:VEVENT
END:VCALENDAR
