BEGIN:VCALENDAR
PRODID:-//eluceo/ical//2.0/EN
VERSION:2.0
CALSCALE:GREGORIAN
BEGIN:VEVENT
UID:9b03741f20a05476875c581e61416ea1
DTSTAMP:20260419T231109Z
SUMMARY:Introduction to Talmud Study with Rabbi Emily Kapor-Mater
DESCRIPTION:Jewish Federation of Greater Portland\nJewish Education\nhttps:
 //jewishportland.org/jewish-education/introduction-to-talmud-study-with-ra
 bbi-emily-kapor-mater-508600\n\nIntroduction to Talmud Study with Rabbi Em
 ily Kapor-Mater\nSundays\, beginning February 1 | 9:30-10:30am (No Classes
  Feb 15\, Mar 22\, Mar 29\, and Apr 5)\nRoom 100 at Congregation Neveh Sha
 lom\nRSVP Here\n \n\n\n\nThe Talmud stands at the center of Rabbinic Juda
 ism. While often associated with law\, it is also a richly layered work co
 ntaining narrative\, interpretation\, scientific speculation\, and moments
  of striking strangeness. Over the course of ten weeks\, this class will e
 ngage a curated sele...
DTSTART;TZID=America/Los_Angeles:20260201T093000
DTEND;TZID=America/Los_Angeles:20260201T103000
END:VEVENT
END:VCALENDAR
