BEGIN:VCALENDAR
PRODID:-//eluceo/ical//2.0/EN
VERSION:2.0
CALSCALE:GREGORIAN
BEGIN:VEVENT
UID:a64b189710a52a48d6dc866b65029156
DTSTAMP:20260422T090227Z
SUMMARY:Jewish Grandparents Network Learning Fest 2026
DESCRIPTION:Jewish Federation of Greater Portland\nJewish Education\nhttps:
 //jewishportland.org/jewish-education/jewish-grandparents-network-learning
 -fest-2026-505809\n\nWe're excited to invite you to something historic: th
 e first global virtual gathering of Jewish grandparents\, happening on Jan
 uary 27\, 2026.\n\nThe world has never moved faster. Your grandchildren na
 vigate TikTok and Taylor Swift\, AI and anxiety. Traditions feel fragile. 
 Family dinners are complicated.\n\nThrough it all\, you are the keeper of 
 stories\, the holder of hearts\, the bridge between what is and what will 
 be.\n\nThis isn’t another webinar. It’s a space to connect\, learn\, a
 nd celeb...
DTSTART;TZID=America/Los_Angeles:20260127T120000
DTEND;TZID=America/Los_Angeles:20260127T153000
END:VEVENT
END:VCALENDAR
