BEGIN:VCALENDAR
PRODID:-//eluceo/ical//2.0/EN
VERSION:2.0
CALSCALE:GREGORIAN
BEGIN:VEVENT
UID:cae732baae275cfe281f80aa64e122fc
DTSTAMP:20260422T140720Z
SUMMARY:Machon Ivrit: Fall Classes Modern Hebrew
DESCRIPTION:Jewish Federation of Greater Portland\nJewish Education\nhttps:
 //jewishportland.org/jewish-education/machon-ivrit-fall-classes-modern-heb
 rew-501939\n\nFall Classes\nModern Hebrew\nNEW–four levels of Modern Heb
 rew\n\nTuesdays\, 7-9pm\nOct 28\, 2025 – May 12\, 2026\n\nJoin us for a 
 year-long course in Modern Hebrew. This once-a-week program offers learner
 s four levels to choose from.\n\nFor more information\, click here.
DTSTART;TZID=America/Los_Angeles:20251028T190000
DTEND;TZID=America/Los_Angeles:20251028T210000
END:VEVENT
END:VCALENDAR
