BEGIN:VCALENDAR
PRODID:-//eluceo/ical//2.0/EN
VERSION:2.0
CALSCALE:GREGORIAN
BEGIN:VEVENT
UID:48595cb3ee83ecc6d84017dc15946035
DTSTAMP:20260424T050104Z
SUMMARY:Object Theater Puppetry as Jewish Text Study with Ora Fruchter
DESCRIPTION:Jewish Federation of Greater Portland\nJewish Education\nhttps:
 //jewishportland.org/jewish-education/object-theater-puppetry-as-jewish-te
 xt-study-with-ora-fruchter-1770154066-510396\n\nWorkshop participants will
  have in-depth and playful conversations about Jewish stories\, developing
  and sharing their unique point of view through object theater puppetry. T
 his workshop is for you if:\n\n(1) you wish more objects on the dinner tab
 le could talk\n\n(2) want to enliven a Shabbat or holiday table and\n\n(3)
  want to learn more about making Jewish stories come alive.\n\nNo theater 
 or puppetry experience required.\nLearn more about Ora Fruchter at: www.or
 afruchter.com\nListen to...
DTSTART;TZID=America/Los_Angeles:20260419T123000
DTEND;TZID=America/Los_Angeles:20260419T153000
END:VEVENT
END:VCALENDAR
