BEGIN:VCALENDAR
PRODID:-//eluceo/ical//2.0/EN
VERSION:2.0
CALSCALE:GREGORIAN
BEGIN:VEVENT
UID:b6f163ba41f2b814c97c2248bd35ba70
DTSTAMP:20260425T203754Z
SUMMARY:Sharaka: Promoting Peace in the Middle East
DESCRIPTION:Jewish Federation of Greater Portland\nJewish Education\nhttps:
 //jewishportland.org/jewish-education/promoting-peace-in-the-middle-east-5
 14916\n\nThrough public engagement\, advocacy\, and educational initiative
 s\, Sharaka creates spaces for meaningful dialogue about the region\, focu
 sing on mutual respect\, economic collaboration\, and coexistence. Its wor
 k extends beyond policy discussions\, connecting people on a personal leve
 l and fostering friendships and partnerships that contribute to long-term 
 peacebuilding efforts.
DTSTART;TZID=America/Los_Angeles:20260512T190000
DTEND;TZID=America/Los_Angeles:20260512T203000
END:VEVENT
END:VCALENDAR
