BEGIN:VCALENDAR
PRODID:-//eluceo/ical//2.0/EN
VERSION:2.0
CALSCALE:GREGORIAN
BEGIN:VEVENT
UID:89fcce9e2c8a383154e729ec5b2ddbb2
DTSTAMP:20260421T042009Z
SUMMARY:Scholar-in-Residence 2026 with Rabbi Danny Nevins
DESCRIPTION:Jewish Federation of Greater Portland\nJewish Education\nhttps:
 //jewishportland.org/jewish-education/scholar-in-residence-2026-with-rabbi
 -danny-nevins-514163\n\nCongregation Neveh Shalom and the Suher Family wou
 ld be honored to have you join us for The 9th Annual Yoni Suher (z”l) S
 cholar-in-Residence\n\n​\n\nRabbi Danny Nevins: Torah & Technology\n \n
 \nMay 8-10\, 2026\n\n\n\n\nSCHEDULE OF EVENTS:\n\n\nFriday\, May 8\, 7:30p
 m* | Dinner and Talk\nDon’t Delegate Your Soul\nCan You Outsource the So
 ul? Artificial intelligence can write\, analyze\, recommend\, and decide.
  As machines begin to perform tasks that once defined human judgment and c
 reativity...
DTSTART;TZID=America/Los_Angeles:20260508T193000
DTEND;TZID=America/Los_Angeles:20260510T113000
END:VEVENT
END:VCALENDAR
