BEGIN:VCALENDAR
PRODID:-//eluceo/ical//2.0/EN
VERSION:2.0
CALSCALE:GREGORIAN
BEGIN:VEVENT
UID:7b83adf1ab0ec8668188e87c129997a2
DTSTAMP:20260422T060335Z
SUMMARY:Sephardic Foundations
DESCRIPTION:Jewish Federation of Greater Portland\nJewish Education\nhttps:
 //jewishportland.org/jewish-education/sephardic-foundations-1761593166-503
 663\n\nOpen to experienced and beginner learners alike\, join us every wee
 k to learn about the foundations of Sephardic thought. Join community memb
 er Mati McKenzie to dive into the foundations of the rich Torah learning t
 raditions of the Sephardim\, and gain a new level of understanding of what
  it means to be Jewish.
DTSTART;TZID=America/Los_Angeles:20251101T123000
DTEND;TZID=America/Los_Angeles:20251101T133000
END:VEVENT
END:VCALENDAR
