BEGIN:VCALENDAR
PRODID:-//eluceo/ical//2.0/EN
VERSION:2.0
CALSCALE:GREGORIAN
BEGIN:VEVENT
UID:47067f67b805667cb068033fe808a209
DTSTAMP:20260426T012350Z
SUMMARY:Tariffs: A Halachic Analysis
DESCRIPTION:Jewish Federation of Greater Portland\nJewish Education\nhttps:
 //jewishportland.org/jewish-education/tariffs-a-halachic-analysis-17387728
 41-485646\n\nJoin Max Spector for a deep dive into the halachic perspectiv
 es on tariffs\, trade restrictions\, and taxation. Explore their historica
 l and ethical implications in Jewish law this Presidents' Day!
DTSTART;TZID=America/Los_Angeles:20250217T100000
DTEND;TZID=America/Los_Angeles:20250217T110000
END:VEVENT
END:VCALENDAR
