BEGIN:VCALENDAR
PRODID:-//eluceo/ical//2.0/EN
VERSION:2.0
CALSCALE:GREGORIAN
BEGIN:VEVENT
UID:e22886dd4c33dd0b79e8ee1079fb5f3d
DTSTAMP:20260425T123150Z
SUMMARY:The Soul in Action: Mystical wisdom for today's challenges
DESCRIPTION:Jewish Federation of Greater Portland\nJewish Education\nhttps:
 //jewishportland.org/jewish-education/the-soul-in-action-mystical-wisdom-f
 or-todays-challenges-1633448673-390800\n\nAn experiential Jewish mysticism
  class exploring our souls and how to work on developing their traits\, us
 ing Jewish meditation and the teachings of Rebbe Nachman of Breslev.
DTSTART;TZID=America/Los_Angeles:20211012T170000
DTEND;TZID=America/Los_Angeles:20211012T183000
END:VEVENT
END:VCALENDAR
