BEGIN:VCALENDAR
PRODID:-//eluceo/ical//2.0/EN
VERSION:2.0
CALSCALE:GREGORIAN
BEGIN:VEVENT
UID:36dfefcb586ecdfedb748a747c59f268
DTSTAMP:20260423T052318Z
SUMMARY:Weekly Parsha Class
DESCRIPTION:Jewish Federation of Greater Portland\nJewish Education\nhttps:
 //jewishportland.org/jewish-education/weekly-parsha-class-1763666285-50550
 4\n\nJoin Rabbi Gleizer every Thursday evening at 8pm for\n10 minute Torah
  From The Mir :\nTorah thoughts on this weeks Parsha from Rabbeim of Yeshi
 vat Mir\nIn person and via zoom at\nPortlandkollel.org/zoom
DTSTART;TZID=America/Los_Angeles:20251225T200000
DTEND;TZID=America/Los_Angeles:20251225T201000
END:VEVENT
END:VCALENDAR
