BEGIN:VCALENDAR
PRODID:-//eluceo/ical//2.0/EN
VERSION:2.0
CALSCALE:GREGORIAN
BEGIN:VEVENT
UID:a36c8aaa6cc7268a664ffa8a3d4a7d99
DTSTAMP:20260426T001421Z
SUMMARY:Women’s Kabbalah Class with Mimi Wilhelm
DESCRIPTION:Jewish Federation of Greater Portland\nJewish Education\nhttps:
 //jewishportland.org/jewish-education/womens-kabbalah-class-with-mimi-wilh
 elm-1767643335-508133\n\nTheme: Kabbalistic Teachings That Will Elevate Yo
 ur Daily Reality\n\nWhen: Monthly Tuesdays\, 6:30–8:00 PM\nJan 20 • Fe
 b 17 • Mar 17 • Apr 21 • May 12 • Jun 9\n\nWhere: Chabad SW Portla
 nd\, 6612 SW Capitol Hwy\, Portland\, OR 97219\n\nCost: $150 (includes stu
 dent book) | Light dinner served\n\nEach class stands on its own—join an
 y session!\n\nRegister at https://www.jportland.com/templates/articlecco_c
 do/aid/5653557/jewish/Rosh-Chodesh-Society-Registration.htm
DTSTART;TZID=America/Los_Angeles:20260317T183000
DTEND;TZID=America/Los_Angeles:20260317T200000
END:VEVENT
END:VCALENDAR
