BEGIN:VCALENDAR
PRODID:-//eluceo/ical//2.0/EN
VERSION:2.0
CALSCALE:GREGORIAN
BEGIN:VEVENT
UID:a799b20dc3f15f144dd59aa87171eafe
DTSTAMP:20260419T182842Z
SUMMARY:Weekly Wednesday Update--Agency Leaders on the Front Line
DESCRIPTION:Jewish Federation of Greater Portland\nProfessionals\nhttps://j
 ewishportland.org/professionals/weekly-wednesday-update-leaders-349970\n\n
 Join the Jewish Federation of Greater Portland \nfor a COVID-19 Community
  Health Update\n\nAgency Leaders on the Front Line\n\nHow are we doing? An
  inside look to the adjustments our agencies are making during the pandemi
 c.\n\nWednesday\, April 29th\n2:00 p.m. -- via Zoom\n\n\nMichelle Koplan 
 – Executive Director\, B'nai B'rith Camp\nKimberly Fuson – Executiv
 e Director\, Cedar Sinai Park\nDavid Block – Executive Director\, Jewis
 h Family and Child Service\nSteve Albert – Executive D...
DTSTART;TZID=America/Los_Angeles:20200429T140000
DTEND;TZID=America/Los_Angeles:20200429T153000
END:VEVENT
END:VCALENDAR
