BEGIN:VCALENDAR
PRODID:-//eluceo/ical//2.0/EN
VERSION:2.0
CALSCALE:GREGORIAN
BEGIN:VEVENT
UID:4b907be9a9655701b4a3c82e236ea489
DTSTAMP:20260423T132204Z
SUMMARY:Young Professionals Cooking Class - Eggplant Beef Yaprakes
DESCRIPTION:Jewish Federation of Greater Portland\nProfessionals\nhttps://j
 ewishportland.org/professionals/young-professionals-cooking-class---eggpla
 nt-beef-yaprakes-1753132178-496433\n\nJoin us for a hands-on Sephardic coo
 king learning experience in how to make Eggplant Beef Yaprakes\, a staple 
 meat dish of Mediterranean Sephardim enjoyed for Shabbat and year-round. P
 articipants will help prepare the dish from start to finish\, and learn ab
 out our community's unique heritage while it cooks.\n\nGet tickets at ahav
 athachimpdx.weebly.com/sephardic-cooking\n$22\n(No one will be turned away
  for lack of funds. Email us.)
DTSTART;TZID=America/Los_Angeles:20250810T160000
DTEND;TZID=America/Los_Angeles:20250810T183000
END:VEVENT
END:VCALENDAR
