BEGIN:VCALENDAR
PRODID:-//eluceo/ical//2.0/EN
VERSION:2.0
CALSCALE:GREGORIAN
BEGIN:VEVENT
UID:2d027509c0577a9b482b702fdf123791
DTSTAMP:20260425T182803Z
SUMMARY:Middle East Side Schpiel
DESCRIPTION:Jewish Federation of Greater Portland\nPurim Happenings\nhttps:
 //jewishportland.org/purim/middle-east-side-schpiel-1709850507\n\nEnjoy a 
 Purim extravaganza with your loved ones on Sunday\, March 24 as P'nai Or o
 f Oregon collaborates with Rose Schnitzer Manor to present “Middle East 
 Side Spiel."   The Purim meets West Side Story tale features the Mazel Ton
 es Chorus\, live music\, costumes\, and delicious hamantaschen. Free.  Two
  45-minute performances: 1:30 pm at Robison Jewish Health Center and 3pm a
 t Rose Schnitzer Manor Assisted Living.
DTSTART;TZID=America/Los_Angeles:20240324T133000
DTEND;TZID=America/Los_Angeles:20240324T160000
END:VEVENT
END:VCALENDAR
