BEGIN:VCALENDAR
PRODID:-//eluceo/ical//2.0/EN
VERSION:2.0
CALSCALE:GREGORIAN
BEGIN:VEVENT
UID:17dd204f286485062db9e75a982f514a
DTSTAMP:20260419T214512Z
SUMMARY:Purim at the Stadium
DESCRIPTION:Jewish Federation of Greater Portland\nPurim Happenings\nhttps:
 //jewishportland.org/purim/purim-at-the-stadium-1709675367-461451\n\nSAVE 
 THE DATE\, GET YOUR TICKETS\, AND LET THE COUNTDOWN BEGIN!!\nPURIM AT THE 
 STADIUM!\nA celebration for the whole family!\nSunday\, March 24th | 4 pm 
 | Lake Theater & Cafe\n> Kickoff Megillah reading\n> Halftime show: VR hom
 e run derby\n> Concession-style dinner\n> VR Sports\n> Hoops and Foosball\
 n> Beer and Wine bar\nSomething you don't want to miss.\nGet your tix at j
 ewishlo.com/stadium
DTSTART;TZID=America/Los_Angeles:20240324T160000
DTEND;TZID=America/Los_Angeles:20240324T180000
END:VEVENT
END:VCALENDAR
