BEGIN:VCALENDAR
PRODID:-//eluceo/ical//2.0/EN
VERSION:2.0
CALSCALE:GREGORIAN
BEGIN:VEVENT
UID:f592575ad05e5d7c4a56cd68d5a49872
DTSTAMP:20260425T121836Z
SUMMARY:Purim Wine Tasting
DESCRIPTION:Jewish Federation of Greater Portland\nPurim Happenings\nhttps:
 //jewishportland.org/purim/purim-wine-tasting-1709065546-460899\n\nFind yo
 u Purim or Peach wine and a nice night out!
DTSTART;TZID=America/Los_Angeles:20240313T191500
DTEND;TZID=America/Los_Angeles:20240313T204500
END:VEVENT
END:VCALENDAR
