BEGIN:VCALENDAR
PRODID:-//eluceo/ical//2.0/EN
VERSION:2.0
CALSCALE:GREGORIAN
BEGIN:VEVENT
UID:d8fb302f49d464be9bd50effc01e3491
DTSTAMP:20260423T190042Z
SUMMARY:Celebrate Purim with Jewlandia!
DESCRIPTION:Jewish Federation of Greater Portland\nReligious Service\nhttps
 ://jewishportland.org/religious-service/celebrate-purim-with-jewlandia-177
 1884698-511863\n\nParty like it's 400 BCE!!
DTSTART;TZID=America/Los_Angeles:20260303T170000
DTEND;TZID=America/Los_Angeles:20260303T210000
END:VEVENT
END:VCALENDAR
