BEGIN:VCALENDAR
PRODID:-//eluceo/ical//2.0/EN
VERSION:2.0
CALSCALE:GREGORIAN
BEGIN:VEVENT
UID:3627e697f2e29c61c763250f49f06f87
DTSTAMP:20260424T233903Z
SUMMARY:Day 1 Rosh Hashanah Service - P'nai Or
DESCRIPTION:Jewish Federation of Greater Portland\nReligious Service\nhttps
 ://jewishportland.org/religious-service/day-1-rosh-hashanah-service---pnai
 -or-1693256417-446809\n\nRenew your spirit!  Join Rabbi Hannah Laner and R
 abbi Aura Ahuvia for the High Holy Days.  All are welcome - no ticket or r
 eservation is required.  Suggested donation $36 per service\, $72 for Yom 
 Kippur.\n\nServices at P'nai Or are spiritual\, joyful and musical.  Wheth
 er you are steeped in Jewish knowledge\, part of an interfaith family\, or
  know little about Judaism\, you are welcome here.\n\nP'nai Or celebrates 
 the Divine reflected in everyone\, LGBTQ+\, interfaith\, Jews by birth\, J
 ews by...
DTSTART;TZID=America/Los_Angeles:20230916T100000
DTEND;TZID=America/Los_Angeles:20230916T120000
END:VEVENT
END:VCALENDAR
