BEGIN:VCALENDAR
PRODID:-//eluceo/ical//2.0/EN
VERSION:2.0
CALSCALE:GREGORIAN
BEGIN:VEVENT
UID:95af9e976a47331444ffb78262256d07
DTSTAMP:20260421T223459Z
SUMMARY:Tashlich at Willamette Park - Havurah Shalom
DESCRIPTION:Jewish Federation of Greater Portland\nReligious Service\nhttps
 ://jewishportland.org/religious-service/hs-tashlich-wp-2018-281392\n\nHigh
  Holidays\, Havurah Shalom - Tashlich at Willamette Park\n\nWe’ll begin 
 at noon with a vegetarian (and kosher fish) potluck lunch\, followed by a 
 musical Tashlich service and walk to the river.\n\n(Last names A-J bring s
 alads\, appetizers\, fruit and drinks\, K-Z bring main dishes.)\nDessert w
 ill be provided by Havurah back at the tables after the Tashlich ritual.\n
 \nA Tikkun Olam fair\, sponsored by the Tikkun Olam committee\, will featu
 re table displays of projects that people can get involv...
DTSTART;TZID=America/Los_Angeles:20180916T120000
DTEND;TZID=America/Los_Angeles:20180916T143000
END:VEVENT
END:VCALENDAR
