BEGIN:VCALENDAR
PRODID:-//eluceo/ical//2.0/EN
VERSION:2.0
CALSCALE:GREGORIAN
BEGIN:VEVENT
UID:2b7fa0b31aeaee86e37740a9e041ea39
DTSTAMP:20260422T212807Z
SUMMARY:Italian Purim
DESCRIPTION:Jewish Federation of Greater Portland\nReligious Service\nhttps
 ://jewishportland.org/religious-service/italian-purim-1740620938-487199\n\
 nJoin Chabad of Hillsboro for an Italian Purim Party!\nThu\, Mar 13 | Hidd
 en Creek Community Center\nPurim Music | Megillah Reading I Masquerade\nIt
 alian Pasta Buffet I Italian Craft & Game show\nMust RSVP AT:\nhttps://www
 .chabadh.com/events/italian-purim
DTSTART;TZID=America/Los_Angeles:20250313T190000
DTEND;TZID=America/Los_Angeles:20250313T210000
END:VEVENT
END:VCALENDAR
