BEGIN:VCALENDAR
PRODID:-//eluceo/ical//2.0/EN
VERSION:2.0
CALSCALE:GREGORIAN
BEGIN:VEVENT
UID:d65703020da7a6e0138c32df7175ee6f
DTSTAMP:20260423T233820Z
SUMMARY:Lake Oswego Purim Celebration
DESCRIPTION:Jewish Federation of Greater Portland\nReligious Service\nhttps
 ://jewishportland.org/religious-service/lake-oswego-purim-celebration-1770
 232338-510502\n\nPURIM CELEBRATION WITH WORLD-FAMOUS COMEDIAN AVI LIBERMAN
 !\n\nRSVP today for an off-the-charts Purim celebration on Tuesday\, March
  3rd at the Lake Theater and Café!\n\nHear the Megillah\, enjoy a delicio
 us Purim feast\, let your children dive into fantastic kids’ entertainme
 nt\, and laugh until your belly hurts — now that’s what I call a Purim
  party!
DTSTART;TZID=America/Los_Angeles:20260303T173000
DTEND;TZID=America/Los_Angeles:20260303T190000
END:VEVENT
END:VCALENDAR
