BEGIN:VCALENDAR
PRODID:-//eluceo/ical//2.0/EN
VERSION:2.0
CALSCALE:GREGORIAN
BEGIN:VEVENT
UID:92447839b0459e6344ddf3cffb16e467
DTSTAMP:20260421T214639Z
SUMMARY:Mini Mensches Travelling Tot Shabbat
DESCRIPTION:Jewish Federation of Greater Portland\nReligious Service\nhttps
 ://jewishportland.org/religious-service/mini-mensches-travelling-tot-shabb
 at-1689897974-443758\n\nWelcome Shabbat with singing\, dancing\, and sweet
 ness! We will gather together outside at Westmoreland Nature Playground to
  sing Shabbat songs and end with a parade with our stuffed Torahs.\n\nWe'l
 l have challah and juice following for the kids\, with plenty of space on 
 the playground for them to play while parents have time to spend together 
 getting to know one another.\n\nMini Mensches is geared towards kids ages 
 0-5 and welcomes the entire community at our events. Invite your friends!
DTSTART;TZID=America/Los_Angeles:20230819T090000
DTEND;TZID=America/Los_Angeles:20230819T100000
END:VEVENT
END:VCALENDAR
