BEGIN:VCALENDAR
PRODID:-//eluceo/ical//2.0/EN
VERSION:2.0
CALSCALE:GREGORIAN
BEGIN:VEVENT
UID:33350880a949301e95f132b0c232061e
DTSTAMP:20260426T002159Z
SUMMARY:Rosh Hashanah Day 1 services
DESCRIPTION:Jewish Federation of Greater Portland\nReligious Service\nhttps
 ://jewishportland.org/religious-service/rosh-hashanah-day-1-services-16287
 29951-387688\n\nTefila 9:00am\nSelling Mitzvotes 10:15am\nTorah Service 10
 :30am\nSerman 11:45am\nSounding of the Shofar Noon\nMusaf 12:20pm\nLunch f
 ollowing services.
DTSTART;TZID=America/Los_Angeles:20210907T090000
DTEND;TZID=America/Los_Angeles:20210907T120000
END:VEVENT
END:VCALENDAR
