BEGIN:VCALENDAR
PRODID:-//eluceo/ical//2.0/EN
VERSION:2.0
CALSCALE:GREGORIAN
BEGIN:VEVENT
UID:f839b28d77c64b3a08891c3e108bd9b1
DTSTAMP:20260424T065642Z
SUMMARY:Shabbat of Love at CBI
DESCRIPTION:Jewish Federation of Greater Portland\nReligious Service\nhttps
 ://jewishportland.org/religious-service/shabbat-of-love-at-cbi-1703704128-
 456484\n\nAs part of the Jewish Federations of North America's "Shabbat of
  Love\," Congregation Beth Israel will send every attendee of our Friday N
 ight Services home with a mini loaf of challah so that their Shabbat dinne
 rs in their own home can be part of the largest Shabbat dinner celebration
  in North American History.
DTSTART;TZID=America/Los_Angeles:20240119T180000
DTEND;TZID=America/Los_Angeles:20240119T193000
END:VEVENT
END:VCALENDAR
