BEGIN:VCALENDAR
PRODID:-//eluceo/ical//2.0/EN
VERSION:2.0
CALSCALE:GREGORIAN
BEGIN:VEVENT
UID:da6829aee400f3bb97a6f1d99185e826
DTSTAMP:20260424T104348Z
SUMMARY:Shabbat with Congregation P'nai Or and PDX Nigun Circle
DESCRIPTION:Jewish Federation of Greater Portland\nReligious Service\nhttps
 ://jewishportland.org/religious-service/shabbat-with-congregation-pnai-or-
 and-pdx-nigun-circle-1746037076-491047\n\nPart of The Portland Jewish Musi
 c Festival!\n\nJoin congregation P’nai Or's Kabbalat Shabbat Service alo
 ng with Portland Nigun Circle to celebrate Shabbat with chanting\, singing
 \, live music\, movement\, meditation\, storytelling and more. \n\nFree/Al
 l Ages
DTSTART;TZID=America/Los_Angeles:20250516T190000
DTEND;TZID=America/Los_Angeles:20250516T203000
END:VEVENT
END:VCALENDAR
