BEGIN:VCALENDAR
PRODID:-//eluceo/ical//2.0/EN
VERSION:2.0
CALSCALE:GREGORIAN
BEGIN:VEVENT
UID:fb4a70f65d9c291c6c3b1babec786334
DTSTAMP:20260424T134741Z
SUMMARY:11th Annual SHOC Walk & Run
DESCRIPTION:Jewish Federation of Greater Portland\nTeens\nhttps://jewishpor
 tland.org/teens/11th-annual-shoc-walk-run-153972\n\nThe SHOC Foundation ki
 cks off its 11th Annual SHOC Walk & Run at Latus Motors Harley-Davidson in
  support of ovarian and gynecologic cancer research.
DTSTART;TZID=America/Los_Angeles:20150801T063000
DTEND;TZID=America/Los_Angeles:20150801T110000
END:VEVENT
END:VCALENDAR
