BEGIN:VCALENDAR
PRODID:-//eluceo/ical//2.0/EN
VERSION:2.0
CALSCALE:GREGORIAN
BEGIN:VEVENT
UID:a3e18ae2065c23abfc0f645f5fd5cdb0
DTSTAMP:20260420T092304Z
SUMMARY:25th anniversary of the Americans with Disabilities Act
DESCRIPTION:Jewish Federation of Greater Portland\nTeens\nhttps://jewishpor
 tland.org/teens/25th-anniversary-of-the-americans-with-disabilities-act-15
 3966\n\nPlease join us for a barbecue\, music\, wii games\, and an interac
 tive yoga demonstration at the Kehillah Housing (apartments for adults wit
 h special needs).  This will be a great way to celebrate the 25th Annivers
 ary of the Americans with Disabilities Act!  
DTSTART;TZID=America/Los_Angeles:20150719T130000
DTEND;TZID=America/Los_Angeles:20150719T160000
END:VEVENT
END:VCALENDAR
