BEGIN:VCALENDAR
PRODID:-//eluceo/ical//2.0/EN
VERSION:2.0
CALSCALE:GREGORIAN
BEGIN:VEVENT
UID:69d6caabcfaa41514c7314635132f439
DTSTAMP:20260423T063116Z
SUMMARY:An Early Evening with Brahms
DESCRIPTION:Jewish Federation of Greater Portland\nTeens\nhttps://jewishpor
 tland.org/teens/an-early-evening-with-brahms-138212\n\nSurround yourself w
 ith the harmonically rich and vibrant music of the great Brahms in our bea
 utiful and acoustically glorious Temple.
DTSTART;TZID=America/Los_Angeles:20150611T180000
DTEND;TZID=America/Los_Angeles:20150611T190000
END:VEVENT
END:VCALENDAR
