BEGIN:VCALENDAR
PRODID:-//eluceo/ical//2.0/EN
VERSION:2.0
CALSCALE:GREGORIAN
BEGIN:VEVENT
UID:eee49a896c4ef28610a925a5a84320ea
DTSTAMP:20260422T172814Z
SUMMARY:Artist Talk: Shelley Jordon - Still Lifes/Animated Paintings
DESCRIPTION:Jewish Federation of Greater Portland\nTeens\nhttps://jewishpor
 tland.org/teens/artist-talk-shelley-jordon-146074\n\nPainter and moving-im
 age artist Shelley Jordon will discuss her artwork in the exhibition Ordin
 ary Matters. 
DTSTART;TZID=America/Los_Angeles:20150602T190000
DTEND;TZID=America/Los_Angeles:20150602T210000
END:VEVENT
END:VCALENDAR
