BEGIN:VCALENDAR
PRODID:-//eluceo/ical//2.0/EN
VERSION:2.0
CALSCALE:GREGORIAN
BEGIN:VEVENT
UID:9bf700b7e23bb5c5b04fdcb066ec8f46
DTSTAMP:20260422T045337Z
SUMMARY:Between Antisemitism & Activism: History of the Jewish Campus Exper
 ience
DESCRIPTION:Jewish Federation of Greater Portland\nTeens\nhttps://jewishpor
 tland.org/teens/between-antisemitism-activism-history-of-the-jewish-campus
 -experience-513324\n\nAdmission is Free\; RSVP is required\n\nJoin us for
  a panel discussion addressing the history of Jewish university experience
 s through the Nazi era to today. The panelists will discuss Jewish experie
 nces of antisemitism and involvement in activism on college campuses\, and
  will specifically dive into what this means for Jewish college students t
 oday. This program will feature perspectives from university professors\, 
 campus professionals\, students\, and activists.  
DTSTART;TZID=America/Los_Angeles:20260412T140000
DTEND;TZID=America/Los_Angeles:20260412T153000
END:VEVENT
END:VCALENDAR
