BEGIN:VCALENDAR
PRODID:-//eluceo/ical//2.0/EN
VERSION:2.0
CALSCALE:GREGORIAN
BEGIN:VEVENT
UID:34a70858b962f0e5a8294d8258a04ea7
DTSTAMP:20260425T122911Z
SUMMARY:Film: The World Was Ours
DESCRIPTION:Jewish Federation of Greater Portland\nTeens\nhttps://jewishpor
 tland.org/teens/film-the-world-was-ours-1437598315-155023\n\nFilm screenin
 g of The World was Ours about the Jews of Vilna. 
DTSTART;TZID=America/Los_Angeles:20151021T190000
DTEND;TZID=America/Los_Angeles:20151021T210000
END:VEVENT
END:VCALENDAR
