BEGIN:VCALENDAR
PRODID:-//eluceo/ical//2.0/EN
VERSION:2.0
CALSCALE:GREGORIAN
BEGIN:VEVENT
UID:5542563d068a763692d08c1207ec7fd6
DTSTAMP:20260423T141316Z
SUMMARY:#GivingTuesday Volunteering: Oregon Food Bank
DESCRIPTION:Jewish Federation of Greater Portland\nTeens\nhttps://jewishpor
 tland.org/teens/giving-tuesday-volunteering-oregon-food-bank-157519\n\nCel
 ebrate Giving Tuesday by volunteering with us a the Oregon Food Bank.
DTSTART;TZID=America/Los_Angeles:20161129T180000
DTEND;TZID=America/Los_Angeles:20161129T203000
END:VEVENT
END:VCALENDAR
