BEGIN:VCALENDAR
PRODID:-//eluceo/ical//2.0/EN
VERSION:2.0
CALSCALE:GREGORIAN
BEGIN:VEVENT
UID:e66aa89b9814e1ecd13df876c5f18b96
DTSTAMP:20260420T023440Z
SUMMARY:Good Deeds Month - J-Serve Project
DESCRIPTION:Jewish Federation of Greater Portland\nTeens\nhttps://jewishpor
 tland.org/teens/good-deeds-month-j-serve-project-april-2019-305445\n\nJ-SE
 RVE Project: Houseless Community in PDX\n\nAt Agape Village -Time to be de
 termined.\n\nJ-Serve is a teen initiative supported by BBYO open to 6th - 
 8th graders.\n\nRegistration opens April 1
DTSTART;TZID=America/Los_Angeles:20190428T000000
DTEND;TZID=America/Los_Angeles:20190428T235959
END:VEVENT
END:VCALENDAR
