BEGIN:VCALENDAR
PRODID:-//eluceo/ical//2.0/EN
VERSION:2.0
CALSCALE:GREGORIAN
BEGIN:VEVENT
UID:3e7e88a574376d53ced719ef1ec8de10
DTSTAMP:20260420T214327Z
SUMMARY:Holocaust Memorials: Context\, Interpretation\, Memory
DESCRIPTION:Jewish Federation of Greater Portland\nTeens\nhttps://jewishpor
 tland.org/teens/holocaust-memorials-context-interpretation-memory-14328454
 95-147238\n\nHolocaust memorials stand at the intersections of public art\
 , history\, and memory. What understandings and expectations do we bring t
 o Holocaust memorials\, and how are they challenged and sustained through 
 design? \n\nThis class will commence in OJMCHE's auditorium\, where partic
 ipants will learn about concepts that underlie widely known Holocaust memo
 rials throughout the world before heading to the Oregon Holocaust Memorial
  for an hour-long interpretive tour and conversation.
DTSTART;TZID=America/Los_Angeles:20150809T100000
DTEND;TZID=America/Los_Angeles:20150809T123000
END:VEVENT
END:VCALENDAR
