BEGIN:VCALENDAR
PRODID:-//eluceo/ical//2.0/EN
VERSION:2.0
CALSCALE:GREGORIAN
BEGIN:VEVENT
UID:80689f7d1f57cace03ac05c58fda8e2d
DTSTAMP:20260424T031729Z
SUMMARY:Israel FIlm Series - Yolki Palki
DESCRIPTION:Jewish Federation of Greater Portland\nTeens\nhttps://jewishpor
 tland.org/teens/israel-film-series-yolki-palki-248052\n\nThe MJCC proudl
 y presents the 4th Annual Israeli Film Series featuring three extraordin
 ary films. Each film has s theme centered on Immigration and was selected 
 for its quality and ability to excite\, delight\, enlighten\, provoke and/
 or move viewers to tears or laughter. You will not want to miss out on the
 se films! \n\nYolki Palki\n\nA documentary about the Russian community in
  Israel today - their successes and personal stories. The film is filled w
 ith interesting people who talk about t...
DTSTART;TZID=America/Los_Angeles:20171010T190000
DTEND;TZID=America/Los_Angeles:20171010T210000
END:VEVENT
END:VCALENDAR
