BEGIN:VCALENDAR
PRODID:-//eluceo/ical//2.0/EN
VERSION:2.0
CALSCALE:GREGORIAN
BEGIN:VEVENT
UID:e9074360f070e9c6191761fa2920841a
DTSTAMP:20260426T013426Z
SUMMARY:Israeli Folk Dancing at Leedy Grange
DESCRIPTION:Jewish Federation of Greater Portland\nTeens\nhttps://jewishpor
 tland.org/teens/israeli-folk-dancing-at-leedy-grange-1426018409-138226\n\n
 Learn and enjoy Israeli folk dances\, brought to you by Sue Wendel and fri
 ends. 
DTSTART;TZID=America/Los_Angeles:20150817T190000
DTEND;TZID=America/Los_Angeles:20150817T210000
END:VEVENT
END:VCALENDAR
