BEGIN:VCALENDAR
PRODID:-//eluceo/ical//2.0/EN
VERSION:2.0
CALSCALE:GREGORIAN
BEGIN:VEVENT
UID:85c07b0cd471c868e3fc4d4588523a67
DTSTAMP:20260422T045347Z
SUMMARY:Jewish Community Orchestra: Young Artists Showcase
DESCRIPTION:Jewish Federation of Greater Portland\nTeens\nhttps://jewishpor
 tland.org/teens/jewish-community-orchestra-young-artists-showcase-177217\n
 \nConcerti winners and pieces to be announced.
DTSTART;TZID=America/Los_Angeles:20160131T150000
DTEND;TZID=America/Los_Angeles:20160131T170000
END:VEVENT
END:VCALENDAR
